BEGIN:VCALENDAR
VERSION:2.0
PRODID:-//wp-events-plugin.com//7.2.1//EN
TZID:Australia/Brisbane
X-WR-TIMEZONE:Australia/Brisbane
BEGIN:VEVENT
UID:4024@smbi.community
DTSTART;TZID=Australia/Brisbane:20230816T153000
DTEND;TZID=Australia/Brisbane:20230816T163000
DTSTAMP:20230814T025414Z
URL:https://smbi.community/events/community-memorial-service-for-wayne-har
 ry-zack-kyla-koah-nicky/
SUMMARY:Community Memorial Service for Wayne\, Harry\, Zack\, Kyla\, Koah &
  Nicky
DESCRIPTION:For those wishing to attend the Community Memorial Service on W
 ednesday 16th August\, please be aware that the service will begin at 3:30
  - can you please try and arrive about 10-15 minutes before this time\, an
 d wait behind the families so the memorial service can proceed on time.\n\
 nOur thoughts are with the families and our community at this difficult ti
 me.
ATTACH;FMTTYPE=image/jpeg:https://smbi.community/wp-content/uploads/2023/0
 8/IMG_0738.jpeg
CATEGORIES:Celebration
LOCATION:Bay Islands Memorial Garden\, 136-146 High St\, Russell Island\, Q
 ld\, 4184\, Australia
GEO:-27.658943;153.382071
X-APPLE-STRUCTURED-LOCATION;VALUE=URI;X-ADDRESS=136-146 High St\, Russell I
 sland\, Qld\, 4184\, Australia;X-APPLE-RADIUS=100;X-TITLE=Bay Islands Memo
 rial Garden:geo:-27.658943,153.382071
END:VEVENT
BEGIN:VTIMEZONE
TZID:Australia/Brisbane
X-LIC-LOCATION:Australia/Brisbane
BEGIN:STANDARD
DTSTART:20220816T153000
TZOFFSETFROM:+1000
TZOFFSETTO:+1000
TZNAME:AEST
END:STANDARD
END:VTIMEZONE
END:VCALENDAR