BEGIN:VCALENDAR
VERSION:2.0
PRODID:-//wp-events-plugin.com//7.2.1//EN
TZID:Australia/Brisbane
X-WR-TIMEZONE:Australia/Brisbane
BEGIN:VEVENT
UID:7048@smbi.community
DTSTART;TZID=Australia/Brisbane:20240601T180000
DTEND;TZID=Australia/Brisbane:20240601T230000
DTSTAMP:20240411T021029Z
URL:https://smbi.community/events/fabulosity-drag-cabaret-jun-2024/
SUMMARY:Fabulosity! Drag Cabaret (Jun 2024)
DESCRIPTION:Our only event for 2024! The Queen of Fabulous is back... Satur
 day 1st June.\n\nSave this date - tickets on sale soon!\n\nThis is a full 
 cabaret show with a "saucy" 2 course pre-show meal &amp\; a complimentary 
 glass of wine or beer on arrival.\n\nSTRICTLY 18+ EVENT
ATTACH;FMTTYPE=image/jpeg:https://smbi.community/wp-content/uploads/2024/0
 4/MIPA_Fabulosity24.png
CATEGORIES:Food and Drink,Music,Social
LOCATION:MIPA Hall\, 26-30 Russell Tce\, Macleay Island\, Qld\, 4184\, SMBI
 \, Australia
GEO:-27.630673;153.365706
X-APPLE-STRUCTURED-LOCATION;VALUE=URI;X-ADDRESS=26-30 Russell Tce\, Macleay
  Island\, Qld\, 4184\, SMBI\, Australia;X-APPLE-RADIUS=100;X-TITLE=MIPA Ha
 ll:geo:-27.630673,153.365706
END:VEVENT
BEGIN:VTIMEZONE
TZID:Australia/Brisbane
X-LIC-LOCATION:Australia/Brisbane
BEGIN:STANDARD
DTSTART:20230602T180000
TZOFFSETFROM:+1000
TZOFFSETTO:+1000
TZNAME:AEST
END:STANDARD
END:VTIMEZONE
END:VCALENDAR