BEGIN:VCALENDAR
VERSION:2.0
PRODID:-//wp-events-plugin.com//7.2.1//EN
TZID:Australia/Brisbane
X-WR-TIMEZONE:Australia/Brisbane
BEGIN:VEVENT
UID:4014@smbi.community
DTSTART;TZID=Australia/Brisbane:20230722T090000
DTEND;TZID=Australia/Brisbane:20230722T160000
DTSTAMP:20230627T062305Z
URL:https://smbi.community/events/free-suicide-prevention-training-li-jul-
 2023/
SUMMARY:Free Suicide Prevention Training - LI Jul 2023
DESCRIPTION:Suicide prevention training\nInformed by the latest research in
  suicide prevention\, Wesley LifeForce has developed a quality suite of su
 icide prevention training. Our suicide prevention training equips particip
 ants with the knowledge and skills to increase awareness of suicide in Aus
 tralia\, identify the signs that someone may be at risk of suicide and app
 ropriate action to take. Effective interventions can make a real differenc
 e and save lives. Our programs aim at training individuals from all walks 
 of life\, as well as organisational groups. All Wesley LifeForce facilitat
 ors are accredited trainers and have completed suicide intervention traini
 ng.
ATTACH;FMTTYPE=image/jpeg:https://smbi.community/wp-content/uploads/2023/0
 6/WSPT-2023-07-LI.webp
CATEGORIES:Educational,Health
LOCATION:LIRA\, 125-133 Lucas Dr\, Lamb Island\, Qld\, 4184\, SMBI\, Austra
 lia
GEO:-27.624304;153.384144
X-APPLE-STRUCTURED-LOCATION;VALUE=URI;X-ADDRESS=125-133 Lucas Dr\, Lamb Isl
 and\, Qld\, 4184\, SMBI\, Australia;X-APPLE-RADIUS=100;X-TITLE=LIRA:geo:-2
 7.624304,153.384144
END:VEVENT
BEGIN:VTIMEZONE
TZID:Australia/Brisbane
X-LIC-LOCATION:Australia/Brisbane
BEGIN:STANDARD
DTSTART:20220722T090000
TZOFFSETFROM:+1000
TZOFFSETTO:+1000
TZNAME:AEST
END:STANDARD
END:VTIMEZONE
END:VCALENDAR