BEGIN:VCALENDAR
VERSION:2.0
PRODID:-//wp-events-plugin.com//7.2.1//EN
TZID:Australia/Brisbane
X-WR-TIMEZONE:Australia/Brisbane
BEGIN:VEVENT
UID:4088@smbi.community
DTSTART;TZID=Australia/Brisbane:20231018T110000
DTEND;TZID=Australia/Brisbane:20231018T140000
DTSTAMP:20231016T045458Z
URL:https://smbi.community/events/lawn-bowls-lunch-with-carer-gateway/
SUMMARY:Lawn Bowls & Lunch with Carer Gateway
DESCRIPTION:There are 2.65 million carers in Australia\, this National Care
 rs Week we are taking the chance to recognise and thank them for everythin
 g they do.
ATTACH;FMTTYPE=image/jpeg:https://smbi.community/wp-content/uploads/2023/1
 0/CarersWeek-MacleayIsland.webp
CATEGORIES:Celebration
LOCATION:Macleay Island Bowls Club\, 28 Benowa St\, Macleay Island\, Qld\, 
 4184\, Australia
GEO:-27.597161;153.353462
X-APPLE-STRUCTURED-LOCATION;VALUE=URI;X-ADDRESS=28 Benowa St\, Macleay Isla
 nd\, Qld\, 4184\, Australia;X-APPLE-RADIUS=100;X-TITLE=Macleay Island Bowl
 s Club:geo:-27.597161,153.353462
END:VEVENT
BEGIN:VTIMEZONE
TZID:Australia/Brisbane
X-LIC-LOCATION:Australia/Brisbane
BEGIN:STANDARD
DTSTART:20221018T110000
TZOFFSETFROM:+1000
TZOFFSETTO:+1000
TZNAME:AEST
END:STANDARD
END:VTIMEZONE
END:VCALENDAR