BEGIN:VCALENDAR
VERSION:2.0
PRODID:-//wp-events-plugin.com//7.2.1//EN
TZID:Australia/Brisbane
X-WR-TIMEZONE:Australia/Brisbane
BEGIN:VEVENT
UID:671@smbi.community
DTSTART;TZID=Australia/Brisbane:20231028T120000
DTEND;TZID=Australia/Brisbane:20231028T170000
DTSTAMP:20230926T060108Z
URL:https://smbi.community/events/mipa-special-event-oct-2023/
SUMMARY:MIPA Jaazz & Shiraz Oct 2023
DESCRIPTION:JAZZ AND SHIRAZ\, Saturday 28th October 12.00 till 5pm.\n\nJoin
  us for a perfect afternoon\, by the bay... Superb Jazz with the 'Stephen 
 Henry Quartet' including a delicious Gourmet Picnic Box bursting with deli
 cious local produce and a complimentary drink on arrival. Bar opens at mid
 day. Tables inside and on the deck - all undercover!!\n\nBOOKINGS VIA http
 s://trybooking.com/cllgq
ATTACH;FMTTYPE=image/jpeg:https://smbi.community/wp-content/uploads/2022/1
 1/MIPA-Jazz-Shiraz-2023-10.webp
CATEGORIES:Celebration,Food and Drink,Music
LOCATION:MIPA Hall\, 26-30 Russell Tce\, Macleay Island\, Qld\, 4184\, SMBI
 \, Australia
GEO:-27.630673;153.365706
X-APPLE-STRUCTURED-LOCATION;VALUE=URI;X-ADDRESS=26-30 Russell Tce\, Macleay
  Island\, Qld\, 4184\, SMBI\, Australia;X-APPLE-RADIUS=100;X-TITLE=MIPA Ha
 ll:geo:-27.630673,153.365706
END:VEVENT
BEGIN:VTIMEZONE
TZID:Australia/Brisbane
X-LIC-LOCATION:Australia/Brisbane
BEGIN:STANDARD
DTSTART:20221028T120000
TZOFFSETFROM:+1000
TZOFFSETTO:+1000
TZNAME:AEST
END:STANDARD
END:VTIMEZONE
END:VCALENDAR