BEGIN:VCALENDAR
VERSION:2.0
PRODID:-//wp-events-plugin.com//7.2.1//EN
TZID:Australia/Brisbane
X-WR-TIMEZONE:Australia/Brisbane
BEGIN:VEVENT
UID:4011@smbi.community
DTSTART;TZID=Australia/Brisbane:20230708T150000
DTEND;TZID=Australia/Brisbane:20230708T221500
DTSTAMP:20230627T060649Z
URL:https://smbi.community/events/moonlight-movies-on-macleay-jul-8th-2023
 /
SUMMARY:Moonlight Movies on Macleay Jul 8th\, 2023
DESCRIPTION:Moonlight Movies on Macleay\n\n8 July\, 3-10.15pm\n\n12 August\
 , 3-9.20pm\n\n30 Sep\, 3-9.20pm\n\n&nbsp\;\n\nAll info can be found in the
  event and booking pages:\n\nhttps://events.humanitix.com/moonlight-movies
 -on-macleay\n\n&nbsp\;\n\nFAMILY SESSION 8/7\n\nhttps://www.facebook.com/e
 vents/1268787027343377\n\n&nbsp\;\n\nLATE SESSION 8/7\n\nhttps://www.faceb
 ook.com/events/1830845350650134
ATTACH;FMTTYPE=image/jpeg:https://smbi.community/wp-content/uploads/2023/0
 6/MoviesMacleay.webp
CATEGORIES:Social
LOCATION:MI Community Hall\, 32 High Central Rd\, Macleay Island\, Qld\, 41
 84\, SMBI\, Australia
GEO:-27.628877;153.363293
X-APPLE-STRUCTURED-LOCATION;VALUE=URI;X-ADDRESS=32 High Central Rd\, Maclea
 y Island\, Qld\, 4184\, SMBI\, Australia;X-APPLE-RADIUS=100;X-TITLE=MI Com
 munity Hall:geo:-27.628877,153.363293
END:VEVENT
BEGIN:VTIMEZONE
TZID:Australia/Brisbane
X-LIC-LOCATION:Australia/Brisbane
BEGIN:STANDARD
DTSTART:20220708T150000
TZOFFSETFROM:+1000
TZOFFSETTO:+1000
TZNAME:AEST
END:STANDARD
END:VTIMEZONE
END:VCALENDAR