BEGIN:VCALENDAR
VERSION:2.0
PRODID:-//wp-events-plugin.com//7.2.1//EN
TZID:Australia/Brisbane
X-WR-TIMEZONE:Australia/Brisbane
BEGIN:VEVENT
UID:4057@smbi.community
DTSTART:20230919T230000Z
DTEND:20230920T010000Z
DTSTAMP:20231004T071356Z
URL:https://smbi.community/events/smbi-bubs-families-ri-2023-2023-09-20/
SUMMARY:SMBI Bubs & Families RI 2023
DESCRIPTION:SMBI Bubs and Families is a group where parents-in-waiting and 
 parents of bubs up to around 12 months old can get together to chat\, have
  a coffee\, tea or hot chocolate\, and get to know each other better.\n\nE
 very week (from 13th Sep) the Child Health Nurse is in for an Open Drop In
  for children up to 5 years old - no appointments necessary.
ATTACH;FMTTYPE=image/jpeg:https://smbi.community/wp-content/uploads/2022/1
 0/SMBI_Bubs_Families.jpg
CATEGORIES:Playgroups &amp; Parents Groups
LOCATION:BIMSARA\, 2 Union St\, Russell Island\, Qld\, 4184\, SMBI\, Austra
 lia
GEO:-27.649796;153.377416
X-APPLE-STRUCTURED-LOCATION;VALUE=URI;X-ADDRESS=2 Union St\, Russell Island
 \, Qld\, 4184\, SMBI\, Australia;X-APPLE-RADIUS=100;X-TITLE=BIMSARA:geo:-2
 7.649796,153.377416
END:VEVENT
END:VCALENDAR