BEGIN:VCALENDAR
VERSION:2.0
PRODID:-//wp-events-plugin.com//7.2.1//EN
TZID:Australia/Brisbane
X-WR-TIMEZONE:Australia/Brisbane
BEGIN:VEVENT
UID:7182@smbi.community
DTSTART;TZID=Australia/Brisbane:20240526T080000
DTEND;TZID=Australia/Brisbane:20240526T143000
DTSTAMP:20240524T064638Z
URL:https://smbi.community/events/tingira-markets-tingira-2024/
SUMMARY:Tingira Markets - Tingira (2024)
DESCRIPTION:Tingira Markets Day &amp\;\n\nSunday on the Deck
ATTACH;FMTTYPE=image/jpeg:https://smbi.community/wp-content/uploads/2024/0
 3/logo_Tingira_Boat_Club.webp
CATEGORIES:Markets,Social
LOCATION:Tingira Boat Club\, 91 Coast Rd\, Macleay Island\, Qld\, 4184\, SM
 BI\, Australia
GEO:-27.59891;153.35337
X-APPLE-STRUCTURED-LOCATION;VALUE=URI;X-ADDRESS=91 Coast Rd\, Macleay Islan
 d\, Qld\, 4184\, SMBI\, Australia;X-APPLE-RADIUS=100;X-TITLE=Tingira Boat 
 Club:geo:-27.59891,153.35337
END:VEVENT
BEGIN:VTIMEZONE
TZID:Australia/Brisbane
X-LIC-LOCATION:Australia/Brisbane
BEGIN:STANDARD
DTSTART:20230527T080000
TZOFFSETFROM:+1000
TZOFFSETTO:+1000
TZNAME:AEST
END:STANDARD
END:VTIMEZONE
END:VCALENDAR