BEGIN:VCALENDAR
VERSION:2.0
PRODID:-//wp-events-plugin.com//7.2.1//EN
TZID:Australia/Brisbane
X-WR-TIMEZONE:Australia/Brisbane
BEGIN:VEVENT
UID:4089@smbi.community
DTSTART;TZID=Australia/Brisbane:20231031T160000
DTEND;TZID=Australia/Brisbane:20231031T190000
DTSTAMP:20231029T222038Z
URL:https://smbi.community/events/trick-or-treat-macleay-island-2023/
SUMMARY:Trick or Treat Macleay Island 2023
DESCRIPTION:Free fun for halloween\, come by and check it out while you're 
 trick or treating about !
ATTACH;FMTTYPE=image/jpeg:https://smbi.community/wp-content/uploads/2023/1
 0/FB_IMG_1698617452658.jpg
CATEGORIES:Celebration
LOCATION:McDonald's Farm (across from Scotts Rd)\, 79 High Central Rd\, Mac
 leay Island\, Qld\, 4184\, SMBI\, Australia
GEO:-27.624046;153.363134
X-APPLE-STRUCTURED-LOCATION;VALUE=URI;X-ADDRESS=79 High Central Rd\, Maclea
 y Island\, Qld\, 4184\, SMBI\, Australia;X-APPLE-RADIUS=100;X-TITLE=McDona
 ld's Farm (across from Scotts Rd):geo:-27.624046,153.363134
END:VEVENT
BEGIN:VTIMEZONE
TZID:Australia/Brisbane
X-LIC-LOCATION:Australia/Brisbane
BEGIN:STANDARD
DTSTART:20221031T160000
TZOFFSETFROM:+1000
TZOFFSETTO:+1000
TZNAME:AEST
END:STANDARD
END:VTIMEZONE
END:VCALENDAR